BEGIN:VCALENDAR
VERSION:2.0
PRODID:-//217.160.0.118//NONSGML kigkonsult.se iCalcreator 2.20//
CALSCALE:GREGORIAN
METHOD:PUBLISH
X-WR-TIMEZONE:UTC
BEGIN:VEVENT
UID:event83@Webseite Bergschützen Voglarn 9.10 DEV
DTSTAMP:20260422T154324Z
CATEGORIES:bsv-kalender
DESCRIPTION:Maiandacht beim Schützenhaus\, anschließend Fototermin und Eink
 ehr\nKategorie: bsv-kalender\nICS-Link: https://voglarn.de/index.php?optio
 n=com_jem&view=event&id=83:maiandacht-beim-schuetzenhaus-anschliessend-fot
 otermin-und-einkehr\n
DTSTART:20260522T180000Z
DTEND:20260522T180000Z
SUMMARY:Maiandacht beim Schützenhaus\, anschließend Fototermin und Einkehr
URL:https://voglarn.de/index.php?option=com_jem&view=event&id=83:maiandacht
 -beim-schuetzenhaus-anschliessend-fototermin-und-einkehr
END:VEVENT
END:VCALENDAR